BEGIN:VCALENDAR
VERSION:2.0
PRODID:-//Rock Ledge Ranch Historic Site - ECPv6.15.20//NONSGML v1.0//EN
CALSCALE:GREGORIAN
METHOD:PUBLISH
X-ORIGINAL-URL:https://rockledgeranch.com
X-WR-CALDESC:Events for Rock Ledge Ranch Historic Site
REFRESH-INTERVAL;VALUE=DURATION:PT1H
X-Robots-Tag:noindex
X-PUBLISHED-TTL:PT1H
BEGIN:VTIMEZONE
TZID:America/Denver
BEGIN:DAYLIGHT
TZOFFSETFROM:-0700
TZOFFSETTO:-0600
TZNAME:MDT
DTSTART:20250309T090000
END:DAYLIGHT
BEGIN:STANDARD
TZOFFSETFROM:-0600
TZOFFSETTO:-0700
TZNAME:MST
DTSTART:20251102T080000
END:STANDARD
BEGIN:DAYLIGHT
TZOFFSETFROM:-0700
TZOFFSETTO:-0600
TZNAME:MDT
DTSTART:20260308T090000
END:DAYLIGHT
BEGIN:STANDARD
TZOFFSETFROM:-0600
TZOFFSETTO:-0700
TZNAME:MST
DTSTART:20261101T080000
END:STANDARD
BEGIN:DAYLIGHT
TZOFFSETFROM:-0700
TZOFFSETTO:-0600
TZNAME:MDT
DTSTART:20270314T090000
END:DAYLIGHT
BEGIN:STANDARD
TZOFFSETFROM:-0600
TZOFFSETTO:-0700
TZNAME:MST
DTSTART:20271107T080000
END:STANDARD
END:VTIMEZONE
BEGIN:VEVENT
DTSTART;TZID=America/Denver:20261105T103000
DTEND;TZID=America/Denver:20261105T113000
DTSTAMP:20260421T042459
CREATED:20260105T170618Z
LAST-MODIFIED:20260224T194436Z
UID:10001151-1793874600-1793878200@rockledgeranch.com
SUMMARY:Barnyard Buddies First Thursday Preschool Program
DESCRIPTION:Step back in time for some hands-on learning opportunities for all ages. Make a cornhusk doll at the Homestead Cabin as you learn about 1860s pioneer life. How did the railroad transform settler life in Colorado?  Discover what it took to be a farmer or rancher in the Pikes Peak region in the 1880s. Why was a blacksmith essential to ranch operations in the 1890s? Explore all these ideas and more while chomping down on some popcorn from the General Store at Homeschool Day. Designed for homeschoolers. Everyone welcome! Admission is $4.00 each\, children 2 and under are FREE for this self-paced tour of our historic sites. Be sure to dress for the weather. Most of this program is outdoors with limited indoor space. 								\n				\n					\n				\n		\n					\n				\n				\n									\n					\n						\n									PURCHASE TICKETS HERE
URL:https://rockledgeranch.com/event/barnyard-buddies-first-thursday-preschool-program/2026-11-05/
LOCATION:Rock Ledge Ranch Historic Site\, 3105 Gateway Road\, Colorado Springs\, Colorado\, 80904\, United States
END:VEVENT
BEGIN:VEVENT
DTSTART;TZID=America/Denver:20261107T100000
DTEND;TZID=America/Denver:20261107T140000
DTSTAMP:20260421T042500
CREATED:20231116T230447Z
LAST-MODIFIED:20260126T211610Z
UID:10000785-1794045600-1794060000@rockledgeranch.com
SUMMARY:Everything but the Oink
DESCRIPTION:Step back in time for some hands-on learning opportunities for all ages. Make a cornhusk doll at the Homestead Cabin as you learn about 1860s pioneer life. How did the railroad transform settler life in Colorado?  Discover what it took to be a farmer or rancher in the Pikes Peak region in the 1880s. Why was a blacksmith essential to ranch operations in the 1890s? Explore all these ideas and more while chomping down on some popcorn from the General Store at Homeschool Day. Designed for homeschoolers. Everyone welcome! Admission is $4.00 each\, children 2 and under are FREE for this self-paced tour of our historic sites. Be sure to dress for the weather. Most of this program is outdoors with limited indoor space. 								\n				\n					\n				\n		\n					\n				\n				\n									\n					\n						\n									PURCHASE TICKETS HERE
URL:https://rockledgeranch.com/event/everything-but-the-oink/
END:VEVENT
BEGIN:VEVENT
DTSTART;TZID=America/Denver:20261112T103000
DTEND;TZID=America/Denver:20261112T110000
DTSTAMP:20260421T042500
CREATED:20260105T173403Z
LAST-MODIFIED:20260105T173403Z
UID:10001215-1794479400-1794481200@rockledgeranch.com
SUMMARY:Barnyard Buddies Storytime
DESCRIPTION:Step back in time for some hands-on learning opportunities for all ages. Make a cornhusk doll at the Homestead Cabin as you learn about 1860s pioneer life. How did the railroad transform settler life in Colorado?  Discover what it took to be a farmer or rancher in the Pikes Peak region in the 1880s. Why was a blacksmith essential to ranch operations in the 1890s? Explore all these ideas and more while chomping down on some popcorn from the General Store at Homeschool Day. Designed for homeschoolers. Everyone welcome! Admission is $4.00 each\, children 2 and under are FREE for this self-paced tour of our historic sites. Be sure to dress for the weather. Most of this program is outdoors with limited indoor space. 								\n				\n					\n				\n		\n					\n				\n				\n									\n					\n						\n									PURCHASE TICKETS HERE
URL:https://rockledgeranch.com/event/barnyard-buddies-storytime/2026-11-12/
END:VEVENT
BEGIN:VEVENT
DTSTART;TZID=America/Denver:20261119T103000
DTEND;TZID=America/Denver:20261119T110000
DTSTAMP:20260421T042500
CREATED:20260105T173403Z
LAST-MODIFIED:20260105T173403Z
UID:10001216-1795084200-1795086000@rockledgeranch.com
SUMMARY:Barnyard Buddies Storytime
DESCRIPTION:Step back in time for some hands-on learning opportunities for all ages. Make a cornhusk doll at the Homestead Cabin as you learn about 1860s pioneer life. How did the railroad transform settler life in Colorado?  Discover what it took to be a farmer or rancher in the Pikes Peak region in the 1880s. Why was a blacksmith essential to ranch operations in the 1890s? Explore all these ideas and more while chomping down on some popcorn from the General Store at Homeschool Day. Designed for homeschoolers. Everyone welcome! Admission is $4.00 each\, children 2 and under are FREE for this self-paced tour of our historic sites. Be sure to dress for the weather. Most of this program is outdoors with limited indoor space. 								\n				\n					\n				\n		\n					\n				\n				\n									\n					\n						\n									PURCHASE TICKETS HERE
URL:https://rockledgeranch.com/event/barnyard-buddies-storytime/2026-11-19/
END:VEVENT
BEGIN:VEVENT
DTSTART;TZID=America/Denver:20261203T103000
DTEND;TZID=America/Denver:20261203T113000
DTSTAMP:20260421T042500
CREATED:20260105T170618Z
LAST-MODIFIED:20260224T194436Z
UID:10001152-1796293800-1796297400@rockledgeranch.com
SUMMARY:Barnyard Buddies First Thursday Preschool Program
DESCRIPTION:Step back in time for some hands-on learning opportunities for all ages. Make a cornhusk doll at the Homestead Cabin as you learn about 1860s pioneer life. How did the railroad transform settler life in Colorado?  Discover what it took to be a farmer or rancher in the Pikes Peak region in the 1880s. Why was a blacksmith essential to ranch operations in the 1890s? Explore all these ideas and more while chomping down on some popcorn from the General Store at Homeschool Day. Designed for homeschoolers. Everyone welcome! Admission is $4.00 each\, children 2 and under are FREE for this self-paced tour of our historic sites. Be sure to dress for the weather. Most of this program is outdoors with limited indoor space. 								\n				\n					\n				\n		\n					\n				\n				\n									\n					\n						\n									PURCHASE TICKETS HERE
URL:https://rockledgeranch.com/event/barnyard-buddies-first-thursday-preschool-program/2026-12-03/
LOCATION:Rock Ledge Ranch Historic Site\, 3105 Gateway Road\, Colorado Springs\, Colorado\, 80904\, United States
END:VEVENT
BEGIN:VEVENT
DTSTART;TZID=America/Denver:20261212T150000
DTEND;TZID=America/Denver:20261212T200000
DTSTAMP:20260421T042500
CREATED:20260105T163531Z
LAST-MODIFIED:20260105T163531Z
UID:10001131-1797087600-1797105600@rockledgeranch.com
SUMMARY:Holiday Evening
DESCRIPTION:Step back in time for some hands-on learning opportunities for all ages. Make a cornhusk doll at the Homestead Cabin as you learn about 1860s pioneer life. How did the railroad transform settler life in Colorado?  Discover what it took to be a farmer or rancher in the Pikes Peak region in the 1880s. Why was a blacksmith essential to ranch operations in the 1890s? Explore all these ideas and more while chomping down on some popcorn from the General Store at Homeschool Day. Designed for homeschoolers. Everyone welcome! Admission is $4.00 each\, children 2 and under are FREE for this self-paced tour of our historic sites. Be sure to dress for the weather. Most of this program is outdoors with limited indoor space. 								\n				\n					\n				\n		\n					\n				\n				\n									\n					\n						\n									PURCHASE TICKETS HERE
URL:https://rockledgeranch.com/event/holiday-evening-2/
ATTACH;FMTTYPE=image/jpeg:https://rockledgeranch.com/wp-content/uploads/2019/06/MG_9309s-resize.jpg
END:VEVENT
END:VCALENDAR