BEGIN:VCALENDAR
VERSION:2.0
PRODID:-//Rock Ledge Ranch Historic Site - ECPv6.15.20//NONSGML v1.0//EN
CALSCALE:GREGORIAN
METHOD:PUBLISH
X-WR-CALNAME:Rock Ledge Ranch Historic Site
X-ORIGINAL-URL:https://rockledgeranch.com
X-WR-CALDESC:Events for Rock Ledge Ranch Historic Site
REFRESH-INTERVAL;VALUE=DURATION:PT1H
X-Robots-Tag:noindex
X-PUBLISHED-TTL:PT1H
BEGIN:VTIMEZONE
TZID:America/Denver
BEGIN:DAYLIGHT
TZOFFSETFROM:-0700
TZOFFSETTO:-0600
TZNAME:MDT
DTSTART:20210314T090000
END:DAYLIGHT
BEGIN:STANDARD
TZOFFSETFROM:-0600
TZOFFSETTO:-0700
TZNAME:MST
DTSTART:20211107T080000
END:STANDARD
BEGIN:DAYLIGHT
TZOFFSETFROM:-0700
TZOFFSETTO:-0600
TZNAME:MDT
DTSTART:20220313T090000
END:DAYLIGHT
BEGIN:STANDARD
TZOFFSETFROM:-0600
TZOFFSETTO:-0700
TZNAME:MST
DTSTART:20221106T080000
END:STANDARD
BEGIN:DAYLIGHT
TZOFFSETFROM:-0700
TZOFFSETTO:-0600
TZNAME:MDT
DTSTART:20230312T090000
END:DAYLIGHT
BEGIN:STANDARD
TZOFFSETFROM:-0600
TZOFFSETTO:-0700
TZNAME:MST
DTSTART:20231105T080000
END:STANDARD
END:VTIMEZONE
BEGIN:VEVENT
DTSTART;TZID=America/Denver:20220702T100000
DTEND;TZID=America/Denver:20220702T170000
DTSTAMP:20260422T033906
CREATED:20220611T181620Z
LAST-MODIFIED:20220611T181934Z
UID:10000099-1656756000-1656781200@rockledgeranch.com
SUMMARY:Woodworking Demonstrations in the Workshop
DESCRIPTION:Step back in time for some hands-on learning opportunities for all ages. Make a cornhusk doll at the Homestead Cabin as you learn about 1860s pioneer life. How did the railroad transform settler life in Colorado?  Discover what it took to be a farmer or rancher in the Pikes Peak region in the 1880s. Why was a blacksmith essential to ranch operations in the 1890s? Explore all these ideas and more while chomping down on some popcorn from the General Store at Homeschool Day. Designed for homeschoolers. Everyone welcome! Admission is $4.00 each\, children 2 and under are FREE for this self-paced tour of our historic sites. Be sure to dress for the weather. Most of this program is outdoors with limited indoor space. 								\n				\n					\n				\n		\n					\n				\n				\n									\n					\n						\n									PURCHASE TICKETS HERE
URL:https://rockledgeranch.com/event/woodworking-demonstrations-in-the-workshop-5/
LOCATION:Rock Ledge Ranch Historic Site\, 3105 Gateway Road\, Colorado Springs\, Colorado\, 80904\, United States
END:VEVENT
BEGIN:VEVENT
DTSTART;TZID=America/Denver:20220701T140000
DTEND;TZID=America/Denver:20220701T150000
DTSTAMP:20260422T033907
CREATED:20220622T173046Z
LAST-MODIFIED:20220622T173046Z
UID:10000134-1656684000-1656687600@rockledgeranch.com
SUMMARY:Victorian Clothing at the Rock Ledge House
DESCRIPTION:Step back in time for some hands-on learning opportunities for all ages. Make a cornhusk doll at the Homestead Cabin as you learn about 1860s pioneer life. How did the railroad transform settler life in Colorado?  Discover what it took to be a farmer or rancher in the Pikes Peak region in the 1880s. Why was a blacksmith essential to ranch operations in the 1890s? Explore all these ideas and more while chomping down on some popcorn from the General Store at Homeschool Day. Designed for homeschoolers. Everyone welcome! Admission is $4.00 each\, children 2 and under are FREE for this self-paced tour of our historic sites. Be sure to dress for the weather. Most of this program is outdoors with limited indoor space. 								\n				\n					\n				\n		\n					\n				\n				\n									\n					\n						\n									PURCHASE TICKETS HERE
URL:https://rockledgeranch.com/event/victorian-clothing-at-the-rock-ledge-house-2/
END:VEVENT
BEGIN:VEVENT
DTSTART;TZID=America/Denver:20220701T113000
DTEND;TZID=America/Denver:20220701T123000
DTSTAMP:20260422T033907
CREATED:20220203T170149Z
LAST-MODIFIED:20220517T115739Z
UID:10000064-1656675000-1656678600@rockledgeranch.com
SUMMARY:Summer Tea Luncheon
DESCRIPTION:Step back in time for some hands-on learning opportunities for all ages. Make a cornhusk doll at the Homestead Cabin as you learn about 1860s pioneer life. How did the railroad transform settler life in Colorado?  Discover what it took to be a farmer or rancher in the Pikes Peak region in the 1880s. Why was a blacksmith essential to ranch operations in the 1890s? Explore all these ideas and more while chomping down on some popcorn from the General Store at Homeschool Day. Designed for homeschoolers. Everyone welcome! Admission is $4.00 each\, children 2 and under are FREE for this self-paced tour of our historic sites. Be sure to dress for the weather. Most of this program is outdoors with limited indoor space. 								\n				\n					\n				\n		\n					\n				\n				\n									\n					\n						\n									PURCHASE TICKETS HERE
URL:https://rockledgeranch.com/event/summer-tea-luncheon-3/
CATEGORIES:Blacksmith,Cultural Program,Food,Historic Site,Learning Program,Orchard House,Reservations Required,Rock Ledge House,Rock Ledge Ranch,Special Admission
END:VEVENT
BEGIN:VEVENT
DTSTART;TZID=America/Denver:20220630T140000
DTEND;TZID=America/Denver:20220630T143000
DTSTAMP:20260422T033907
CREATED:20220622T165538Z
LAST-MODIFIED:20220622T165538Z
UID:10000126-1656597600-1656599400@rockledgeranch.com
SUMMARY:Calisthenics at the Rock Ledge House
DESCRIPTION:Step back in time for some hands-on learning opportunities for all ages. Make a cornhusk doll at the Homestead Cabin as you learn about 1860s pioneer life. How did the railroad transform settler life in Colorado?  Discover what it took to be a farmer or rancher in the Pikes Peak region in the 1880s. Why was a blacksmith essential to ranch operations in the 1890s? Explore all these ideas and more while chomping down on some popcorn from the General Store at Homeschool Day. Designed for homeschoolers. Everyone welcome! Admission is $4.00 each\, children 2 and under are FREE for this self-paced tour of our historic sites. Be sure to dress for the weather. Most of this program is outdoors with limited indoor space. 								\n				\n					\n				\n		\n					\n				\n				\n									\n					\n						\n									PURCHASE TICKETS HERE
URL:https://rockledgeranch.com/event/calisthenics-at-the-rock-ledge-house-2/
END:VEVENT
BEGIN:VEVENT
DTSTART;TZID=America/Denver:20220630T130000
DTEND;TZID=America/Denver:20220630T160000
DTSTAMP:20260422T033907
CREATED:20220611T193150Z
LAST-MODIFIED:20220611T193850Z
UID:10000109-1656594000-1656604800@rockledgeranch.com
SUMMARY:Bread-Baking Demonstration at the Cabin
DESCRIPTION:Step back in time for some hands-on learning opportunities for all ages. Make a cornhusk doll at the Homestead Cabin as you learn about 1860s pioneer life. How did the railroad transform settler life in Colorado?  Discover what it took to be a farmer or rancher in the Pikes Peak region in the 1880s. Why was a blacksmith essential to ranch operations in the 1890s? Explore all these ideas and more while chomping down on some popcorn from the General Store at Homeschool Day. Designed for homeschoolers. Everyone welcome! Admission is $4.00 each\, children 2 and under are FREE for this self-paced tour of our historic sites. Be sure to dress for the weather. Most of this program is outdoors with limited indoor space. 								\n				\n					\n				\n		\n					\n				\n				\n									\n					\n						\n									PURCHASE TICKETS HERE
URL:https://rockledgeranch.com/event/bread-baking-demonstration-at-the-cabin-3/
END:VEVENT
BEGIN:VEVENT
DTSTART;TZID=America/Denver:20220629T140000
DTEND;TZID=America/Denver:20220629T150000
DTSTAMP:20260422T033907
CREATED:20220611T205421Z
LAST-MODIFIED:20220611T205421Z
UID:10000118-1656511200-1656514800@rockledgeranch.com
SUMMARY:Folk Songs at the Homestead Cabin
DESCRIPTION:Step back in time for some hands-on learning opportunities for all ages. Make a cornhusk doll at the Homestead Cabin as you learn about 1860s pioneer life. How did the railroad transform settler life in Colorado?  Discover what it took to be a farmer or rancher in the Pikes Peak region in the 1880s. Why was a blacksmith essential to ranch operations in the 1890s? Explore all these ideas and more while chomping down on some popcorn from the General Store at Homeschool Day. Designed for homeschoolers. Everyone welcome! Admission is $4.00 each\, children 2 and under are FREE for this self-paced tour of our historic sites. Be sure to dress for the weather. Most of this program is outdoors with limited indoor space. 								\n				\n					\n				\n		\n					\n				\n				\n									\n					\n						\n									PURCHASE TICKETS HERE
URL:https://rockledgeranch.com/event/folk-songs-at-the-homestead-cabin-3/
END:VEVENT
BEGIN:VEVENT
DTSTART;TZID=America/Denver:20220625T100000
DTEND;TZID=America/Denver:20220625T170000
DTSTAMP:20260422T033907
CREATED:20220611T181545Z
LAST-MODIFIED:20220611T181908Z
UID:10000098-1656151200-1656176400@rockledgeranch.com
SUMMARY:Woodworking Demonstrations in the Workshop
DESCRIPTION:Step back in time for some hands-on learning opportunities for all ages. Make a cornhusk doll at the Homestead Cabin as you learn about 1860s pioneer life. How did the railroad transform settler life in Colorado?  Discover what it took to be a farmer or rancher in the Pikes Peak region in the 1880s. Why was a blacksmith essential to ranch operations in the 1890s? Explore all these ideas and more while chomping down on some popcorn from the General Store at Homeschool Day. Designed for homeschoolers. Everyone welcome! Admission is $4.00 each\, children 2 and under are FREE for this self-paced tour of our historic sites. Be sure to dress for the weather. Most of this program is outdoors with limited indoor space. 								\n				\n					\n				\n		\n					\n				\n				\n									\n					\n						\n									PURCHASE TICKETS HERE
URL:https://rockledgeranch.com/event/woodworking-demonstrations-in-the-workshop-4/
LOCATION:Rock Ledge Ranch Historic Site\, 3105 Gateway Road\, Colorado Springs\, Colorado\, 80904\, United States
END:VEVENT
BEGIN:VEVENT
DTSTART;TZID=America/Denver:20220624T140000
DTEND;TZID=America/Denver:20220624T150000
DTSTAMP:20260422T033907
CREATED:20220622T172653Z
LAST-MODIFIED:20220622T172653Z
UID:10000133-1656079200-1656082800@rockledgeranch.com
SUMMARY:Victorian Clothing at the Rock Ledge House
DESCRIPTION:Step back in time for some hands-on learning opportunities for all ages. Make a cornhusk doll at the Homestead Cabin as you learn about 1860s pioneer life. How did the railroad transform settler life in Colorado?  Discover what it took to be a farmer or rancher in the Pikes Peak region in the 1880s. Why was a blacksmith essential to ranch operations in the 1890s? Explore all these ideas and more while chomping down on some popcorn from the General Store at Homeschool Day. Designed for homeschoolers. Everyone welcome! Admission is $4.00 each\, children 2 and under are FREE for this self-paced tour of our historic sites. Be sure to dress for the weather. Most of this program is outdoors with limited indoor space. 								\n				\n					\n				\n		\n					\n				\n				\n									\n					\n						\n									PURCHASE TICKETS HERE
URL:https://rockledgeranch.com/event/victorian-clothing-at-the-rock-ledge-house/
END:VEVENT
BEGIN:VEVENT
DTSTART;TZID=America/Denver:20220624T113000
DTEND;TZID=America/Denver:20220624T123000
DTSTAMP:20260422T033907
CREATED:20220203T170120Z
LAST-MODIFIED:20220517T115745Z
UID:10000063-1656070200-1656073800@rockledgeranch.com
SUMMARY:Summer Tea Luncheon
DESCRIPTION:Step back in time for some hands-on learning opportunities for all ages. Make a cornhusk doll at the Homestead Cabin as you learn about 1860s pioneer life. How did the railroad transform settler life in Colorado?  Discover what it took to be a farmer or rancher in the Pikes Peak region in the 1880s. Why was a blacksmith essential to ranch operations in the 1890s? Explore all these ideas and more while chomping down on some popcorn from the General Store at Homeschool Day. Designed for homeschoolers. Everyone welcome! Admission is $4.00 each\, children 2 and under are FREE for this self-paced tour of our historic sites. Be sure to dress for the weather. Most of this program is outdoors with limited indoor space. 								\n				\n					\n				\n		\n					\n				\n				\n									\n					\n						\n									PURCHASE TICKETS HERE
URL:https://rockledgeranch.com/event/summer-tea-luncheon-2/
CATEGORIES:Blacksmith,Cultural Program,Food,Historic Site,Learning Program,Orchard House,Reservations Required,Rock Ledge House,Rock Ledge Ranch,Special Admission
END:VEVENT
BEGIN:VEVENT
DTSTART;TZID=America/Denver:20220623T140000
DTEND;TZID=America/Denver:20220623T143000
DTSTAMP:20260422T033907
CREATED:20220622T165411Z
LAST-MODIFIED:20220622T165411Z
UID:10000125-1655992800-1655994600@rockledgeranch.com
SUMMARY:Calisthenics at the Rock Ledge House
DESCRIPTION:Step back in time for some hands-on learning opportunities for all ages. Make a cornhusk doll at the Homestead Cabin as you learn about 1860s pioneer life. How did the railroad transform settler life in Colorado?  Discover what it took to be a farmer or rancher in the Pikes Peak region in the 1880s. Why was a blacksmith essential to ranch operations in the 1890s? Explore all these ideas and more while chomping down on some popcorn from the General Store at Homeschool Day. Designed for homeschoolers. Everyone welcome! Admission is $4.00 each\, children 2 and under are FREE for this self-paced tour of our historic sites. Be sure to dress for the weather. Most of this program is outdoors with limited indoor space. 								\n				\n					\n				\n		\n					\n				\n				\n									\n					\n						\n									PURCHASE TICKETS HERE
URL:https://rockledgeranch.com/event/calisthenics-at-the-rock-ledge-house/
END:VEVENT
BEGIN:VEVENT
DTSTART;TZID=America/Denver:20220623T130000
DTEND;TZID=America/Denver:20220623T160000
DTSTAMP:20260422T033907
CREATED:20220611T193037Z
LAST-MODIFIED:20220611T193922Z
UID:10000108-1655989200-1656000000@rockledgeranch.com
SUMMARY:Bread-Baking Demonstration at the Cabin
DESCRIPTION:Step back in time for some hands-on learning opportunities for all ages. Make a cornhusk doll at the Homestead Cabin as you learn about 1860s pioneer life. How did the railroad transform settler life in Colorado?  Discover what it took to be a farmer or rancher in the Pikes Peak region in the 1880s. Why was a blacksmith essential to ranch operations in the 1890s? Explore all these ideas and more while chomping down on some popcorn from the General Store at Homeschool Day. Designed for homeschoolers. Everyone welcome! Admission is $4.00 each\, children 2 and under are FREE for this self-paced tour of our historic sites. Be sure to dress for the weather. Most of this program is outdoors with limited indoor space. 								\n				\n					\n				\n		\n					\n				\n				\n									\n					\n						\n									PURCHASE TICKETS HERE
URL:https://rockledgeranch.com/event/bread-baking-demonstration-at-the-cabin-2/
END:VEVENT
BEGIN:VEVENT
DTSTART;TZID=America/Denver:20220622T140000
DTEND;TZID=America/Denver:20220622T150000
DTSTAMP:20260422T033907
CREATED:20220611T205340Z
LAST-MODIFIED:20220611T205340Z
UID:10000117-1655906400-1655910000@rockledgeranch.com
SUMMARY:Folk Songs at the Homestead Cabin
DESCRIPTION:Step back in time for some hands-on learning opportunities for all ages. Make a cornhusk doll at the Homestead Cabin as you learn about 1860s pioneer life. How did the railroad transform settler life in Colorado?  Discover what it took to be a farmer or rancher in the Pikes Peak region in the 1880s. Why was a blacksmith essential to ranch operations in the 1890s? Explore all these ideas and more while chomping down on some popcorn from the General Store at Homeschool Day. Designed for homeschoolers. Everyone welcome! Admission is $4.00 each\, children 2 and under are FREE for this self-paced tour of our historic sites. Be sure to dress for the weather. Most of this program is outdoors with limited indoor space. 								\n				\n					\n				\n		\n					\n				\n				\n									\n					\n						\n									PURCHASE TICKETS HERE
URL:https://rockledgeranch.com/event/folk-songs-at-the-homestead-cabin-2/
END:VEVENT
BEGIN:VEVENT
DTSTART;TZID=America/Denver:20220618T100000
DTEND;TZID=America/Denver:20220618T170000
DTSTAMP:20260422T033907
CREATED:20220611T181836Z
LAST-MODIFIED:20220611T181836Z
UID:10000100-1655546400-1655571600@rockledgeranch.com
SUMMARY:Woodworking Demonstrations in the Workshop
DESCRIPTION:Step back in time for some hands-on learning opportunities for all ages. Make a cornhusk doll at the Homestead Cabin as you learn about 1860s pioneer life. How did the railroad transform settler life in Colorado?  Discover what it took to be a farmer or rancher in the Pikes Peak region in the 1880s. Why was a blacksmith essential to ranch operations in the 1890s? Explore all these ideas and more while chomping down on some popcorn from the General Store at Homeschool Day. Designed for homeschoolers. Everyone welcome! Admission is $4.00 each\, children 2 and under are FREE for this self-paced tour of our historic sites. Be sure to dress for the weather. Most of this program is outdoors with limited indoor space. 								\n				\n					\n				\n		\n					\n				\n				\n									\n					\n						\n									PURCHASE TICKETS HERE
URL:https://rockledgeranch.com/event/woodworking-demonstrations-in-the-workshop-3/
LOCATION:Rock Ledge Ranch Historic Site\, 3105 Gateway Road\, Colorado Springs\, Colorado\, 80904\, United States
END:VEVENT
BEGIN:VEVENT
DTSTART;TZID=America/Denver:20220617T113000
DTEND;TZID=America/Denver:20220617T123000
DTSTAMP:20260422T033907
CREATED:20220203T164410Z
LAST-MODIFIED:20220517T115749Z
UID:10000062-1655465400-1655469000@rockledgeranch.com
SUMMARY:Summer Tea Luncheon
DESCRIPTION:Step back in time for some hands-on learning opportunities for all ages. Make a cornhusk doll at the Homestead Cabin as you learn about 1860s pioneer life. How did the railroad transform settler life in Colorado?  Discover what it took to be a farmer or rancher in the Pikes Peak region in the 1880s. Why was a blacksmith essential to ranch operations in the 1890s? Explore all these ideas and more while chomping down on some popcorn from the General Store at Homeschool Day. Designed for homeschoolers. Everyone welcome! Admission is $4.00 each\, children 2 and under are FREE for this self-paced tour of our historic sites. Be sure to dress for the weather. Most of this program is outdoors with limited indoor space. 								\n				\n					\n				\n		\n					\n				\n				\n									\n					\n						\n									PURCHASE TICKETS HERE
URL:https://rockledgeranch.com/event/summer-tea-luncheon/
CATEGORIES:Blacksmith,Cultural Program,Food,Historic Site,Learning Program,Orchard House,Reservations Required,Rock Ledge House,Rock Ledge Ranch,Special Admission
END:VEVENT
BEGIN:VEVENT
DTSTART;TZID=America/Denver:20220616T130000
DTEND;TZID=America/Denver:20220616T160000
DTSTAMP:20260422T033907
CREATED:20220611T184633Z
LAST-MODIFIED:20220611T194000Z
UID:10000107-1655384400-1655395200@rockledgeranch.com
SUMMARY:Bread-Baking Demonstration at the Cabin
DESCRIPTION:Step back in time for some hands-on learning opportunities for all ages. Make a cornhusk doll at the Homestead Cabin as you learn about 1860s pioneer life. How did the railroad transform settler life in Colorado?  Discover what it took to be a farmer or rancher in the Pikes Peak region in the 1880s. Why was a blacksmith essential to ranch operations in the 1890s? Explore all these ideas and more while chomping down on some popcorn from the General Store at Homeschool Day. Designed for homeschoolers. Everyone welcome! Admission is $4.00 each\, children 2 and under are FREE for this self-paced tour of our historic sites. Be sure to dress for the weather. Most of this program is outdoors with limited indoor space. 								\n				\n					\n				\n		\n					\n				\n				\n									\n					\n						\n									PURCHASE TICKETS HERE
URL:https://rockledgeranch.com/event/bread-baking-demonstration-at-the-cabin/
END:VEVENT
BEGIN:VEVENT
DTSTART;TZID=America/Denver:20220615T140000
DTEND;TZID=America/Denver:20220615T150000
DTSTAMP:20260422T033907
CREATED:20220611T205303Z
LAST-MODIFIED:20220611T205303Z
UID:10000116-1655301600-1655305200@rockledgeranch.com
SUMMARY:Folk Songs at the Homestead Cabin
DESCRIPTION:Step back in time for some hands-on learning opportunities for all ages. Make a cornhusk doll at the Homestead Cabin as you learn about 1860s pioneer life. How did the railroad transform settler life in Colorado?  Discover what it took to be a farmer or rancher in the Pikes Peak region in the 1880s. Why was a blacksmith essential to ranch operations in the 1890s? Explore all these ideas and more while chomping down on some popcorn from the General Store at Homeschool Day. Designed for homeschoolers. Everyone welcome! Admission is $4.00 each\, children 2 and under are FREE for this self-paced tour of our historic sites. Be sure to dress for the weather. Most of this program is outdoors with limited indoor space. 								\n				\n					\n				\n		\n					\n				\n				\n									\n					\n						\n									PURCHASE TICKETS HERE
URL:https://rockledgeranch.com/event/folk-songs-at-the-homestead-cabin/
END:VEVENT
BEGIN:VEVENT
DTSTART;TZID=America/Denver:20220611T120000
DTEND;TZID=America/Denver:20220611T170000
DTSTAMP:20260422T033907
CREATED:20220611T180956Z
LAST-MODIFIED:20220611T180956Z
UID:10000097-1654948800-1654966800@rockledgeranch.com
SUMMARY:Woodworking Demonstrations in the Workshop
DESCRIPTION:Step back in time for some hands-on learning opportunities for all ages. Make a cornhusk doll at the Homestead Cabin as you learn about 1860s pioneer life. How did the railroad transform settler life in Colorado?  Discover what it took to be a farmer or rancher in the Pikes Peak region in the 1880s. Why was a blacksmith essential to ranch operations in the 1890s? Explore all these ideas and more while chomping down on some popcorn from the General Store at Homeschool Day. Designed for homeschoolers. Everyone welcome! Admission is $4.00 each\, children 2 and under are FREE for this self-paced tour of our historic sites. Be sure to dress for the weather. Most of this program is outdoors with limited indoor space. 								\n				\n					\n				\n		\n					\n				\n				\n									\n					\n						\n									PURCHASE TICKETS HERE
URL:https://rockledgeranch.com/event/woodworking-demonstrations-in-the-workshop/
LOCATION:Rock Ledge Ranch Historic Site\, 3105 Gateway Road\, Colorado Springs\, Colorado\, 80904\, United States
END:VEVENT
BEGIN:VEVENT
DTSTART;VALUE=DATE:20220611
DTEND;VALUE=DATE:20220612
DTSTAMP:20260422T033907
CREATED:20220519T195343Z
LAST-MODIFIED:20220519T195343Z
UID:10000096-1654905600-1654991999@rockledgeranch.com
SUMMARY:SPECIAL LATE OPENING
DESCRIPTION:Step back in time for some hands-on learning opportunities for all ages. Make a cornhusk doll at the Homestead Cabin as you learn about 1860s pioneer life. How did the railroad transform settler life in Colorado?  Discover what it took to be a farmer or rancher in the Pikes Peak region in the 1880s. Why was a blacksmith essential to ranch operations in the 1890s? Explore all these ideas and more while chomping down on some popcorn from the General Store at Homeschool Day. Designed for homeschoolers. Everyone welcome! Admission is $4.00 each\, children 2 and under are FREE for this self-paced tour of our historic sites. Be sure to dress for the weather. Most of this program is outdoors with limited indoor space. 								\n				\n					\n				\n		\n					\n				\n				\n									\n					\n						\n									PURCHASE TICKETS HERE
URL:https://rockledgeranch.com/event/special-late-opening/
END:VEVENT
END:VCALENDAR