BEGIN:VCALENDAR
VERSION:2.0
PRODID:-//Rock Ledge Ranch Historic Site - ECPv6.15.20//NONSGML v1.0//EN
CALSCALE:GREGORIAN
METHOD:PUBLISH
X-WR-CALNAME:Rock Ledge Ranch Historic Site
X-ORIGINAL-URL:https://rockledgeranch.com
X-WR-CALDESC:Events for Rock Ledge Ranch Historic Site
REFRESH-INTERVAL;VALUE=DURATION:PT1H
X-Robots-Tag:noindex
X-PUBLISHED-TTL:PT1H
BEGIN:VTIMEZONE
TZID:America/Denver
BEGIN:DAYLIGHT
TZOFFSETFROM:-0700
TZOFFSETTO:-0600
TZNAME:MDT
DTSTART:20250309T090000
END:DAYLIGHT
BEGIN:STANDARD
TZOFFSETFROM:-0600
TZOFFSETTO:-0700
TZNAME:MST
DTSTART:20251102T080000
END:STANDARD
BEGIN:DAYLIGHT
TZOFFSETFROM:-0700
TZOFFSETTO:-0600
TZNAME:MDT
DTSTART:20260308T090000
END:DAYLIGHT
BEGIN:STANDARD
TZOFFSETFROM:-0600
TZOFFSETTO:-0700
TZNAME:MST
DTSTART:20261101T080000
END:STANDARD
BEGIN:DAYLIGHT
TZOFFSETFROM:-0700
TZOFFSETTO:-0600
TZNAME:MDT
DTSTART:20270314T090000
END:DAYLIGHT
BEGIN:STANDARD
TZOFFSETFROM:-0600
TZOFFSETTO:-0700
TZNAME:MST
DTSTART:20271107T080000
END:STANDARD
END:VTIMEZONE
BEGIN:VEVENT
DTSTART;TZID=America/Denver:20260907T100000
DTEND;TZID=America/Denver:20260907T150000
DTSTAMP:20260420T115446
CREATED:20230208T215745Z
LAST-MODIFIED:20260126T210838Z
UID:10000261-1788775200-1788793200@rockledgeranch.com
SUMMARY:Labor Day Vintage Base Ball
DESCRIPTION:Cheer on our Camp Creek Cloud Busters (the Rock Ledge Ranch home team) and members from the Vintage Base Ball Association at our annual Labor Day vintage 1880s style base ball match. The Cloud Busters are no “farm team\,” but need your support to cheer them on to victory! Influence the umpire’s call in your team’s favor! Enjoy the sights and sounds of an American historic pastime. Bring small bills for refreshing old-fashioned sodas\, peanuts\, popcorn\, and crackerjacks! Bring your lawn chairs or blankets for seating. The General Store will be open for Ranch-made goodies and gifts\, and all historic homes will be open from 10am until the base ball game begins. \nFirst pitch is at 1:00 pm! \n					\n									PURCHASE TICKETS HERE
URL:https://rockledgeranch.com/event/labor-day-vintage-baseball/
END:VEVENT
END:VCALENDAR