BEGIN:VCALENDAR
VERSION:2.0
PRODID:-//Rock Ledge Ranch Historic Site - ECPv6.15.20//NONSGML v1.0//EN
CALSCALE:GREGORIAN
METHOD:PUBLISH
X-ORIGINAL-URL:https://rockledgeranch.com
X-WR-CALDESC:Events for Rock Ledge Ranch Historic Site
REFRESH-INTERVAL;VALUE=DURATION:PT1H
X-Robots-Tag:noindex
X-PUBLISHED-TTL:PT1H
BEGIN:VTIMEZONE
TZID:America/Denver
BEGIN:DAYLIGHT
TZOFFSETFROM:-0700
TZOFFSETTO:-0600
TZNAME:MDT
DTSTART:20240310T090000
END:DAYLIGHT
BEGIN:STANDARD
TZOFFSETFROM:-0600
TZOFFSETTO:-0700
TZNAME:MST
DTSTART:20241103T080000
END:STANDARD
BEGIN:DAYLIGHT
TZOFFSETFROM:-0700
TZOFFSETTO:-0600
TZNAME:MDT
DTSTART:20250309T090000
END:DAYLIGHT
BEGIN:STANDARD
TZOFFSETFROM:-0600
TZOFFSETTO:-0700
TZNAME:MST
DTSTART:20251102T080000
END:STANDARD
BEGIN:DAYLIGHT
TZOFFSETFROM:-0700
TZOFFSETTO:-0600
TZNAME:MDT
DTSTART:20260308T090000
END:DAYLIGHT
BEGIN:STANDARD
TZOFFSETFROM:-0600
TZOFFSETTO:-0700
TZNAME:MST
DTSTART:20261101T080000
END:STANDARD
END:VTIMEZONE
BEGIN:VEVENT
DTSTART;TZID=America/Denver:20250618T080000
DTEND;TZID=America/Denver:20250627T170000
DTSTAMP:20260420T061055
CREATED:20250512T212842Z
LAST-MODIFIED:20250529T190043Z
UID:10001117-1750233600-1751043600@rockledgeranch.com
SUMMARY:150th Art and Writing Show
DESCRIPTION:Join us at the Ranch to marvel at artwork and writing from the community that celebrates a century and a half of welcoming guests\, preserving memories\, and cultivating places and people! \nFind the gallery at the Barn during our living history hours (Wednesday through Saturday 10am-5pm and Sundays 1-5pm) from June 18 to June 27 \nIf you are an artist and would like to contribute to the show\, please visit this page on our website to learn more: \n					\n									150th Art and Writing Show
URL:https://rockledgeranch.com/event/150th-art-and-writing-show/
END:VEVENT
BEGIN:VEVENT
DTSTART;TZID=America/Denver:20250621T100000
DTEND;TZID=America/Denver:20250621T170000
DTSTAMP:20260420T061055
CREATED:20250121T191959Z
LAST-MODIFIED:20250121T193315Z
UID:10001074-1750500000-1750525200@rockledgeranch.com
SUMMARY:Summer Living History Program
DESCRIPTION:Visit us and experience Colorado history in style here at Rock Ledge Ranch Historic Site. Learn about Native American trade at the American Indian Area. Make a cornhusk doll at the Homestead Cabin. Discover the hard-working and ingenuous spirit of early pioneer homesteaders and farmers in our 1880s Garden. Perfect your skills at Victorian games and tour the 1870s Rock Ledge House. Listen to the rhythmic ‘clink\, clink’ of the blacksmith’s hammer hitting the anvil as you immerse yourself in the life of an 1890s blacksmith. Explore the 1907 Orchard House while you learn about life for Edwardian servants and upper-class citizens of Colorado Springs. \nPURCHASE TICKETS HERE\n 
URL:https://rockledgeranch.com/event/summer-living-history-program/2025-06-21/
LOCATION:Rock Ledge Ranch Historic Site\, 3105 Gateway Road\, Colorado Springs\, Colorado\, 80904\, United States
END:VEVENT
BEGIN:VEVENT
DTSTART;TZID=America/Denver:20250621T100000
DTEND;TZID=America/Denver:20250621T170000
DTSTAMP:20260420T061055
CREATED:20250505T161436Z
LAST-MODIFIED:20250505T164339Z
UID:10001107-1750500000-1750525200@rockledgeranch.com
SUMMARY:Rock Ledge Ranch 150th Anniversary Celebration
DESCRIPTION:Celebrate Rock Ledge House’s 150th anniversary with us! Enjoy historic crafts\, listen to live music\, try some tasty historic snacks\, play fun outdoor games\, and enjoy fresh-baked cookies from the Rock Ledge House as you tour the 150-year-old home of the industrious Chambers family. \n					\n									PURCHASE TICKETS HERE
URL:https://rockledgeranch.com/event/rock-ledge-ranch-150th-anniversary-celebration/
END:VEVENT
BEGIN:VEVENT
DTSTART;TZID=America/Denver:20250621T180000
DTEND;TZID=America/Denver:20250621T203000
DTSTAMP:20260420T061055
CREATED:20250505T164905Z
LAST-MODIFIED:20250505T165129Z
UID:10001108-1750528800-1750537800@rockledgeranch.com
SUMMARY:Rock Ledge Ranch Birthday Dance
DESCRIPTION:Join us for a special ticketed dance celebrating the Rock Ledge House’s 150th birthday on Saturday June 21st! From 6:00pm-8:30pm in the Rock Ledge House field\, commemorate this historic anniversary with old-fashioned dancing\, birthday cake\, and appearances by historical figures. Historic costumes are encouraged\, but not required\, and there will be a prize for the best historic costume! All dances are taught and called throughout the evening so that everyone can enjoy them together. Tickets are $15 per person\, $50 for four people\, or $60 for six people. \n					\n									PURCHASE TICKETS HERE
URL:https://rockledgeranch.com/event/rock-ledge-ranch-birthday-dance/
END:VEVENT
END:VCALENDAR